BEGIN:VCALENDAR
VERSION:2.0
PRODID:-//Pound Ridge Partnership - ECPv6.15.20//NONSGML v1.0//EN
CALSCALE:GREGORIAN
METHOD:PUBLISH
X-ORIGINAL-URL:https://poundridgepartnership.org
X-WR-CALDESC:Events for Pound Ridge Partnership
REFRESH-INTERVAL;VALUE=DURATION:PT1H
X-Robots-Tag:noindex
X-PUBLISHED-TTL:PT1H
BEGIN:VTIMEZONE
TZID:America/New_York
BEGIN:DAYLIGHT
TZOFFSETFROM:-0500
TZOFFSETTO:-0400
TZNAME:EDT
DTSTART:20230312T070000
END:DAYLIGHT
BEGIN:STANDARD
TZOFFSETFROM:-0400
TZOFFSETTO:-0500
TZNAME:EST
DTSTART:20231105T060000
END:STANDARD
BEGIN:DAYLIGHT
TZOFFSETFROM:-0500
TZOFFSETTO:-0400
TZNAME:EDT
DTSTART:20240310T070000
END:DAYLIGHT
BEGIN:STANDARD
TZOFFSETFROM:-0400
TZOFFSETTO:-0500
TZNAME:EST
DTSTART:20241103T060000
END:STANDARD
BEGIN:DAYLIGHT
TZOFFSETFROM:-0500
TZOFFSETTO:-0400
TZNAME:EDT
DTSTART:20250309T070000
END:DAYLIGHT
BEGIN:STANDARD
TZOFFSETFROM:-0400
TZOFFSETTO:-0500
TZNAME:EST
DTSTART:20251102T060000
END:STANDARD
BEGIN:DAYLIGHT
TZOFFSETFROM:-0500
TZOFFSETTO:-0400
TZNAME:EDT
DTSTART:20260308T070000
END:DAYLIGHT
BEGIN:STANDARD
TZOFFSETFROM:-0400
TZOFFSETTO:-0500
TZNAME:EST
DTSTART:20261101T060000
END:STANDARD
BEGIN:DAYLIGHT
TZOFFSETFROM:-0500
TZOFFSETTO:-0400
TZNAME:EDT
DTSTART:20270314T070000
END:DAYLIGHT
BEGIN:STANDARD
TZOFFSETFROM:-0400
TZOFFSETTO:-0500
TZNAME:EST
DTSTART:20271107T060000
END:STANDARD
END:VTIMEZONE
BEGIN:VEVENT
DTSTART;TZID=America/New_York:20240226T170000
DTEND;TZID=America/New_York:20240304T173000
DTSTAMP:20260422T175527
CREATED:20240223T021911Z
LAST-MODIFIED:20240227T170538Z
UID:7249-1708966800-1709573400@poundridgepartnership.org
SUMMARY:Stay Tuned for Our 2024 Event Schedule!
DESCRIPTION:The Pound Ridge Partnership has an incredible list of family-friendly events planned for our community in 2024. This week\, we’re hard at work confirming dates and times for Food Truck Fridays\, Proud Days (including the Bake-Off\, Beautification\, and the Color Run)\, and Music on the Green. Keep your eyes peeled for the full schedule because we have a few surprises in store. We’ll be posting in early March!
URL:https://poundridgepartnership.org/event/stay-tuned-for-our-2024-event-schedule-2/
CATEGORIES:Battle of the Bands,Beautification,Food Truck Fridays,Harvest Festival,Juneteenth,Music on the Green,Pound Ridge Color Run,Proud Day Bake-Off Challenge,Proud Days,Special Announcement,Special Event
ATTACH;FMTTYPE=image/png:https://poundridgepartnership.org/wp-content/uploads/2022/09/pound-ridge-partnership-logo.png
END:VEVENT
BEGIN:VEVENT
DTSTART;TZID=America/New_York:20240517T170000
DTEND;TZID=America/New_York:20240517T210000
DTSTAMP:20260422T175527
CREATED:20240404T155519Z
LAST-MODIFIED:20240501T015659Z
UID:7279-1715965200-1715979600@poundridgepartnership.org
SUMMARY:Food Truck Friday
DESCRIPTION:Food Truck Fridays brings neighbors together once a month between May and September. Multiple different trucks are featured at each event\, which runs from 5 to 9pm in Scotts Corners and is free and family-friendly. The series is known for its “good vibes” with a low-key atmosphere and live music. \n\n\n\nTrucks: Poke Motion | Crafty ‘Cue | Walter’s Hot Dogs | Gyro Uno | Bona Bona Ice Cream | Captain Lawrence  \n\n\n\nMusic:  Bedford School of Rock \n\n\n\nEvent Sponsored by:
URL:https://poundridgepartnership.org/event/food-truck-friday/
LOCATION:Scotts Corners\, 56 Westchester Ave\, Pound Ridge\, New York\, 10576\, United States
CATEGORIES:Food Truck Fridays
ATTACH;FMTTYPE=image/png:https://poundridgepartnership.org/wp-content/uploads/2022/09/pound-ridge-partnership-foodtrucklogo.png
END:VEVENT
BEGIN:VEVENT
DTSTART;TZID=America/New_York:20240621T170000
DTEND;TZID=America/New_York:20240621T210000
DTSTAMP:20260422T175527
CREATED:20240404T155803Z
LAST-MODIFIED:20240614T234718Z
UID:7281-1718989200-1719003600@poundridgepartnership.org
SUMMARY:Food Truck Friday
DESCRIPTION:Food Truck Fridays brings neighbors together once a month between May and September. Multiple different trucks are featured at each event\, which runs from 5 to 9pm in Scotts Corners and is free and family-friendly. The series is known for its “good vibes” with a low-key atmosphere and live music.
URL:https://poundridgepartnership.org/event/food-truck-friday-2/
LOCATION:Scotts Corners\, 56 Westchester Ave\, Pound Ridge\, New York\, 10576\, United States
CATEGORIES:Food Truck Fridays
ATTACH;FMTTYPE=image/png:https://poundridgepartnership.org/wp-content/uploads/2022/09/pound-ridge-partnership-foodtrucklogo.png
END:VEVENT
BEGIN:VEVENT
DTSTART;TZID=America/New_York:20240719T170000
DTEND;TZID=America/New_York:20240719T210000
DTSTAMP:20260422T175527
CREATED:20240404T160255Z
LAST-MODIFIED:20240404T160951Z
UID:7284-1721408400-1721422800@poundridgepartnership.org
SUMMARY:Food Truck Friday
DESCRIPTION:Food Truck Fridays brings neighbors together once a month between May and September. Multiple different trucks are featured at each event\, which runs from 5 to 9pm in Scotts Corners and is free and family-friendly. The series is known for its “good vibes” with a low-key atmosphere and live music.
URL:https://poundridgepartnership.org/event/food-truck-friday-3/
LOCATION:Scotts Corners\, 56 Westchester Ave\, Pound Ridge\, New York\, 10576\, United States
CATEGORIES:Food Truck Fridays
ATTACH;FMTTYPE=image/png:https://poundridgepartnership.org/wp-content/uploads/2022/09/pound-ridge-partnership-foodtrucklogo.png
END:VEVENT
BEGIN:VEVENT
DTSTART;TZID=America/New_York:20240823T170000
DTEND;TZID=America/New_York:20240823T210000
DTSTAMP:20260422T175527
CREATED:20240404T160530Z
LAST-MODIFIED:20240819T003016Z
UID:7286-1724432400-1724446800@poundridgepartnership.org
SUMMARY:Food Truck Friday
DESCRIPTION:Food Truck Fridays brings neighbors together once a month between May and September. Multiple different trucks are featured at each event\, which runs from 5 to 9pm in Scotts Corners and is free and family-friendly. The series is known for its “good vibes” with a low-key atmosphere and live music. \n\n\n\nHappy 50th Anniversary to our sponsor\, Pound Ridge Veterinary Center.  Stop by and see the SPCA Westchester mobile adoption truck! \n\n\n\nGuard Hill\, our musical entertainments\, is collecting non-perishable food items for the Mt. Kisco Interfaith Food Pantry\, items you can bring include:  hot & cold cereal\, shelf stable milk and milk alternatives\, 2-pound bags of white rice\, canned pineapple\, canned corn\, pasta\, canned and dry beans\, low sodium soups\, cans of tuna and salmon\, peanut butter.
URL:https://poundridgepartnership.org/event/food-truck-friday-4/
LOCATION:Scotts Corners\, 56 Westchester Ave\, Pound Ridge\, New York\, 10576\, United States
CATEGORIES:Food Truck Fridays
ATTACH;FMTTYPE=image/png:https://poundridgepartnership.org/wp-content/uploads/2022/09/pound-ridge-partnership-foodtrucklogo.png
END:VEVENT
BEGIN:VEVENT
DTSTART;TZID=America/New_York:20240913T170000
DTEND;TZID=America/New_York:20240913T210000
DTSTAMP:20260422T175527
CREATED:20240404T160842Z
LAST-MODIFIED:20240414T232756Z
UID:7288-1726246800-1726261200@poundridgepartnership.org
SUMMARY:Food Truck Friday
DESCRIPTION:Food Truck Fridays brings neighbors together once a month between May and September. Multiple different trucks are featured at each event\, which runs from 5 to 9pm in Scotts Corners and is free and family-friendly. The series is known for its “good vibes” with a low-key atmosphere and live music.
URL:https://poundridgepartnership.org/event/food-truck-friday-5/
LOCATION:Scotts Corners\, 56 Westchester Ave\, Pound Ridge\, New York\, 10576\, United States
CATEGORIES:Food Truck Fridays
ATTACH;FMTTYPE=image/png:https://poundridgepartnership.org/wp-content/uploads/2022/09/pound-ridge-partnership-foodtrucklogo.png
END:VEVENT
BEGIN:VEVENT
DTSTART;TZID=America/New_York:20250516T170000
DTEND;TZID=America/New_York:20250516T210000
DTSTAMP:20260422T175527
CREATED:20250318T081203Z
LAST-MODIFIED:20250318T081205Z
UID:7631-1747414800-1747429200@poundridgepartnership.org
SUMMARY:Food Truck Friday
DESCRIPTION:Food Truck Fridays brings neighbors together once a month between May and September. Multiple different trucks are featured at each event\, which runs from 5 to 9pm in Scotts Corners and is free and family-friendly. The series is known for its “good vibes” with a low-key atmosphere and live music.
URL:https://poundridgepartnership.org/event/food-truck-friday-6/
LOCATION:Scotts Corners\, 56 Westchester Ave\, Pound Ridge\, New York\, 10576\, United States
CATEGORIES:Food Truck Fridays
ATTACH;FMTTYPE=image/png:https://poundridgepartnership.org/wp-content/uploads/2022/09/pound-ridge-partnership-foodtrucklogo.png
END:VEVENT
BEGIN:VEVENT
DTSTART;TZID=America/New_York:20250620T170000
DTEND;TZID=America/New_York:20250620T210000
DTSTAMP:20260422T175527
CREATED:20250324T032812Z
LAST-MODIFIED:20250324T032814Z
UID:7676-1750438800-1750453200@poundridgepartnership.org
SUMMARY:Food Truck Friday
DESCRIPTION:Food Truck Fridays brings neighbors together once a month between May and September. Multiple different trucks are featured at each event\, which runs from 5 to 9pm in Scotts Corners and is free and family-friendly. The series is known for its “good vibes” with a low-key atmosphere and live music.
URL:https://poundridgepartnership.org/event/food-truck-friday-7/
LOCATION:Scotts Corners\, 56 Westchester Ave\, Pound Ridge\, New York\, 10576\, United States
CATEGORIES:Food Truck Fridays
ATTACH;FMTTYPE=image/png:https://poundridgepartnership.org/wp-content/uploads/2022/09/pound-ridge-partnership-foodtrucklogo.png
END:VEVENT
BEGIN:VEVENT
DTSTART;TZID=America/New_York:20250718T170000
DTEND;TZID=America/New_York:20250718T210000
DTSTAMP:20260422T175527
CREATED:20250324T033020Z
LAST-MODIFIED:20250324T033022Z
UID:7678-1752858000-1752872400@poundridgepartnership.org
SUMMARY:Food Truck Friday
DESCRIPTION:Food Truck Fridays brings neighbors together once a month between May and September. Multiple different trucks are featured at each event\, which runs from 5 to 9pm in Scotts Corners and is free and family-friendly. The series is known for its “good vibes” with a low-key atmosphere and live music.
URL:https://poundridgepartnership.org/event/food-truck-friday-8/
LOCATION:Scotts Corners\, 56 Westchester Ave\, Pound Ridge\, New York\, 10576\, United States
CATEGORIES:Food Truck Fridays
ATTACH;FMTTYPE=image/png:https://poundridgepartnership.org/wp-content/uploads/2022/09/pound-ridge-partnership-foodtrucklogo.png
END:VEVENT
BEGIN:VEVENT
DTSTART;TZID=America/New_York:20250822T170000
DTEND;TZID=America/New_York:20250822T210000
DTSTAMP:20260422T175527
CREATED:20250324T033122Z
LAST-MODIFIED:20250324T033123Z
UID:7679-1755882000-1755896400@poundridgepartnership.org
SUMMARY:Food Truck Friday
DESCRIPTION:Food Truck Fridays brings neighbors together once a month between May and September. Multiple different trucks are featured at each event\, which runs from 5 to 9pm in Scotts Corners and is free and family-friendly. The series is known for its “good vibes” with a low-key atmosphere and live music.
URL:https://poundridgepartnership.org/event/food-truck-friday-9/
LOCATION:Scotts Corners\, 56 Westchester Ave\, Pound Ridge\, New York\, 10576\, United States
CATEGORIES:Food Truck Fridays
ATTACH;FMTTYPE=image/png:https://poundridgepartnership.org/wp-content/uploads/2022/09/pound-ridge-partnership-foodtrucklogo.png
END:VEVENT
BEGIN:VEVENT
DTSTART;TZID=America/New_York:20260515T170000
DTEND;TZID=America/New_York:20260515T210000
DTSTAMP:20260422T175527
CREATED:20250324T033152Z
LAST-MODIFIED:20260414T163451Z
UID:7680-1778864400-1778878800@poundridgepartnership.org
SUMMARY:Food Truck Friday
DESCRIPTION:Food Truck Fridays brings neighbors together once a month between May and September. Multiple different trucks are featured at each event\, which runs from 5 to 9pm in Scotts Corners and is free and family-friendly. The series is known for its good vibes with a low-key atmosphere and live music.
URL:https://poundridgepartnership.org/event/food-truck-friday-10/
LOCATION:Scotts Corners\, 56 Westchester Ave\, Pound Ridge\, New York\, 10576\, United States
CATEGORIES:Food Truck Fridays
ATTACH;FMTTYPE=image/png:https://poundridgepartnership.org/wp-content/uploads/2022/09/pound-ridge-partnership-foodtrucklogo.png
END:VEVENT
END:VCALENDAR