BEGIN:VCALENDAR
VERSION:2.0
PRODID:-//Pound Ridge Partnership - ECPv6.15.20//NONSGML v1.0//EN
CALSCALE:GREGORIAN
METHOD:PUBLISH
X-WR-CALNAME:Pound Ridge Partnership
X-ORIGINAL-URL:https://poundridgepartnership.org
X-WR-CALDESC:Events for Pound Ridge Partnership
REFRESH-INTERVAL;VALUE=DURATION:PT1H
X-Robots-Tag:noindex
X-PUBLISHED-TTL:PT1H
BEGIN:VTIMEZONE
TZID:America/New_York
BEGIN:DAYLIGHT
TZOFFSETFROM:-0500
TZOFFSETTO:-0400
TZNAME:EDT
DTSTART:20200308T070000
END:DAYLIGHT
BEGIN:STANDARD
TZOFFSETFROM:-0400
TZOFFSETTO:-0500
TZNAME:EST
DTSTART:20201101T060000
END:STANDARD
BEGIN:DAYLIGHT
TZOFFSETFROM:-0500
TZOFFSETTO:-0400
TZNAME:EDT
DTSTART:20210314T070000
END:DAYLIGHT
BEGIN:STANDARD
TZOFFSETFROM:-0400
TZOFFSETTO:-0500
TZNAME:EST
DTSTART:20211107T060000
END:STANDARD
BEGIN:DAYLIGHT
TZOFFSETFROM:-0500
TZOFFSETTO:-0400
TZNAME:EDT
DTSTART:20220313T070000
END:DAYLIGHT
BEGIN:STANDARD
TZOFFSETFROM:-0400
TZOFFSETTO:-0500
TZNAME:EST
DTSTART:20221106T060000
END:STANDARD
END:VTIMEZONE
BEGIN:VEVENT
DTSTART;TZID=America/New_York:20210910T170000
DTEND;TZID=America/New_York:20210910T210000
DTSTAMP:20260422T230554
CREATED:20210308T065644Z
LAST-MODIFIED:20210831T023550Z
UID:2996-1631293200-1631307600@poundridgepartnership.org
SUMMARY:Food Truck Friday - September 10th
DESCRIPTION:Food-Truck-Fridays-PRP-Flyer-9.10.21.pub_\n \n\n\n\n\n\n\n\n\n\n\n\n\n\nSponsored by:
URL:https://poundridgepartnership.org/event/food-truck-friday-september-10th/
LOCATION:Pound Ridge Business District on Westchester Avenue\, Scotts Corners Central Business District\, Pound Ridge\, 10576
CATEGORIES:Food Truck Fridays
ATTACH;FMTTYPE=image/jpeg:https://poundridgepartnership.org/wp-content/uploads/2023/03/pound-ridge-partnership-default.jpg
END:VEVENT
END:VCALENDAR